BEGIN:VCALENDAR
VERSION:2.0
PRODID:-//bildung-sport.de - ECPv6.15.20//NONSGML v1.0//EN
CALSCALE:GREGORIAN
METHOD:PUBLISH
X-WR-CALNAME:bildung-sport.de
X-ORIGINAL-URL:https://bildung-sport.de
X-WR-CALDESC:Veranstaltungen für bildung-sport.de
REFRESH-INTERVAL;VALUE=DURATION:PT1H
X-Robots-Tag:noindex
X-PUBLISHED-TTL:PT1H
BEGIN:VTIMEZONE
TZID:Europe/Berlin
BEGIN:DAYLIGHT
TZOFFSETFROM:+0100
TZOFFSETTO:+0200
TZNAME:CEST
DTSTART:20220327T010000
END:DAYLIGHT
BEGIN:STANDARD
TZOFFSETFROM:+0200
TZOFFSETTO:+0100
TZNAME:CET
DTSTART:20221030T010000
END:STANDARD
BEGIN:DAYLIGHT
TZOFFSETFROM:+0100
TZOFFSETTO:+0200
TZNAME:CEST
DTSTART:20230326T010000
END:DAYLIGHT
BEGIN:STANDARD
TZOFFSETFROM:+0200
TZOFFSETTO:+0100
TZNAME:CET
DTSTART:20231029T010000
END:STANDARD
BEGIN:DAYLIGHT
TZOFFSETFROM:+0100
TZOFFSETTO:+0200
TZNAME:CEST
DTSTART:20240331T010000
END:DAYLIGHT
BEGIN:STANDARD
TZOFFSETFROM:+0200
TZOFFSETTO:+0100
TZNAME:CET
DTSTART:20241027T010000
END:STANDARD
END:VTIMEZONE
BEGIN:VEVENT
DTSTART;TZID=Europe/Berlin:20230422T140000
DTEND;TZID=Europe/Berlin:20230422T150000
DTSTAMP:20260421T131236
CREATED:20230306T103729Z
LAST-MODIFIED:20230306T103729Z
UID:1046-1682172000-1682175600@bildung-sport.de
SUMMARY:Übungstag Poomsea
DESCRIPTION:Poomsea Vorprüfung\nLiebe BiS e.V. Mitglieder\, am Samstag\, den 22.04.2023\, findet unsere Poomsea Vorprüfung in der Ellerbeker Halle statt. \nAdresse:\nRudolf-Wissell-Grundschule\nEllerbeker Str. 7\, 13357 Berlin\nS + U-Bhf Gesundbrunnen \nBeginn 14:00 Uhr\nEnde: ca 15:00 Uhr \nNur für Mitglieder die den Gelben-Gurt erreicht oder drüber sind! \nViel Spaß beim Training und viel Erfolg bei der Prüfung!\nEuer BiS e.V.
URL:https://bildung-sport.de/event/uebungstag-poomsea/
LOCATION:Rudolf-Wissell-Grundschule\, Ellerbeker Str. 7\, Berlin\, Berlin\, 13357\, Deutschland
ATTACH;FMTTYPE=image/jpeg:https://bildung-sport.de/wp-content/uploads/2022/08/IMG_1798-scaled.jpg
END:VEVENT
END:VCALENDAR